BEGIN:VCALENDAR
VERSION:2.0
CALSCALE:GREGORIAN
PRODID:-//MyApp//Calendar 1.0//EN
BEGIN:VEVENT
METHOD:PUBLISH
UID:32782@regionalniportaly.cz
DTSTAMP:20260422T042143Z
DTSTART;VALUE=DATE:20230519
DTEND;VALUE=DATE:20230520
SUMMARY:Babylon
DESCRIPTION:
LOCATION:Měnín
END:VEVENT
END:VCALENDAR