BEGIN:VCALENDAR
VERSION:2.0
CALSCALE:GREGORIAN
PRODID:-//MyApp//Calendar 1.0//EN
BEGIN:VEVENT
METHOD:PUBLISH
UID:32386@regionalniportaly.cz
DTSTAMP:20260422T003740Z
DTSTART;VALUE=DATE:20230429
DTEND;VALUE=DATE:20230430
SUMMARY:Piargy
DESCRIPTION:Filmový klub:19:00 film Piargy21:00 koncert Mosskin
LOCATION:Měnín
END:VEVENT
END:VCALENDAR