BEGIN:VCALENDAR
VERSION:2.0
CALSCALE:GREGORIAN
PRODID:-//MyApp//Calendar 1.0//EN
BEGIN:VEVENT
METHOD:PUBLISH
UID:28198@regionalniportaly.cz
DTSTAMP:20260421T034228Z
DTSTART;VALUE=DATE:20220616
DTEND;VALUE=DATE:20220617
SUMMARY:Klobouky v Kloboukách 16.6.
DESCRIPTION:Nabízíme příjemné setkání s přáteli v zahradě a na terase s krásným výhledem v areálu Odstrčilovy vily v Kloboukách u Brna\nV průběhu večera se můžete těšit na:\n\nvystoupení šansonové zpěvačky Elišky Luftnerové\npřehlídku klobouků ve stylu 20. a 30. let v podání Kloboukového klubu Brno\npřekvapení\, jak jinak než týkající se klobouků v podání našich klientů\nk zakoupení bohaté občerstvení od Hotelu international Brno\nprodej výrobků našich klientů\nwelcome drink zdarma pro každého návštěvníka v klobouku\n
LOCATION:Klobouky u Brna
END:VEVENT
END:VCALENDAR