BEGIN:VCALENDAR
VERSION:2.0
CALSCALE:GREGORIAN
PRODID:-//MyApp//Calendar 1.0//EN
BEGIN:VEVENT
METHOD:PUBLISH
UID:21063@regionalniportaly.cz
DTSTAMP:20260421T234145Z
DTSTART;VALUE=DATE:20190719
DTEND;VALUE=DATE:20190720
SUMMARY:RedSocks Orchestra
DESCRIPTION:Od 19:00 hod.\, Státní zámek Bučovice\n\nKoncert big bandu RedSocks Orchestra
LOCATION:Bučovice
END:VEVENT
END:VCALENDAR