BEGIN:VCALENDAR
VERSION:2.0
CALSCALE:GREGORIAN
PRODID:-//MyApp//Calendar 1.0//EN
BEGIN:VEVENT
METHOD:PUBLISH
UID:21026@regionalniportaly.cz
DTSTAMP:20260421T234005Z
DTSTART;VALUE=DATE:20190828
DTEND;VALUE=DATE:20190829
SUMMARY:The Tap Tap načerno - turné černého humoru 2015
DESCRIPTION:
LOCATION:Vyškov
END:VEVENT
END:VCALENDAR