BEGIN:VCALENDAR
VERSION:2.0
CALSCALE:GREGORIAN
PRODID:-//MyApp//Calendar 1.0//EN
BEGIN:VEVENT
METHOD:PUBLISH
UID:20188@regionalniportaly.cz
DTSTAMP:20260422T012838Z
DTSTART;VALUE=DATE:20190621
DTEND;VALUE=DATE:20190622
SUMMARY:Pivní sla(vno)sti
DESCRIPTION:Od 16:00 hod.\, Městský park Šlapanice\n\nTěšit se můžete na:\n\nSpousta dobrých škopků \nDobrý bigbeat \nNěco k snědku \n\nJiž po 17.-té!
LOCATION:Šlapanice
END:VEVENT
END:VCALENDAR