BEGIN:VCALENDAR
VERSION:2.0
CALSCALE:GREGORIAN
PRODID:-//MyApp//Calendar 1.0//EN
BEGIN:VEVENT
METHOD:PUBLISH
UID:19998@regionalniportaly.cz
DTSTAMP:20260423T192725Z
DTSTART;VALUE=DATE:20190511
DTEND;VALUE=DATE:20190512
SUMMARY:Zahájení turistické sezóny v ATC Merkur Pasohlávky 10. – 11.5.
DESCRIPTION:Dovolte\, abychom Vás tímto pozvali na devatenáctý ročník Zahájení turistické sezóny v ATC Merkur Pasohlávky.\nProgram bude zahájen v pátek\, 10. května 2019\, vystoupením rockovou kapela Křídla. Následovat bude hudební folkrocková kapela Fleret\, dále rocková skupina Alkehol\, metalová/hard rocková kapela Škwor a zakončovat den bude popová hudební skupina Mirai.\nV sobotu\, 11. května 2019\, bude program opravdu pestrý. Na děti se těší KAMARÁD WIKI\, se kterým se vydají za dobrodružstvím rozluštěných pohádek. Celodenní zábavná show bude zakončena bublinkovou minidiskotékou plnou soutěží.\nPotápěči z Halcyonu budou čistit dno velké Laguny.\nNa hlavní stage bude program zahájen hudebním souborem Kandráčovci. Dále naváže známá zpěvačka Olga Lounová\, pop-rocková hudební skupina Reflexy\, slovenský rapper Ego\, slovenská rocková skupina DesMod.\n\nSobotní program bude zakončovat popová skupina Mandrage.\nPo oba dny atrakce pro děti\, stánky s občerstvením\, restaurace a spoustu sportovní vyžití.
LOCATION:Pasohlávky
END:VEVENT
END:VCALENDAR