BEGIN:VCALENDAR
VERSION:2.0
CALSCALE:GREGORIAN
PRODID:-//MyApp//Calendar 1.0//EN
BEGIN:VEVENT
METHOD:PUBLISH
UID:19976@regionalniportaly.cz
DTSTAMP:20260421T234024Z
DTSTART;VALUE=DATE:20190720
DTEND;VALUE=DATE:20190721
SUMMARY:Rockové Školy
DESCRIPTION:ROCKOVÉ ŠKOLY je letní hudební festival\, který se stal nedílnou součástí kulturního dění na Vyškovsku. \n\nKaždý rok se snažíme\, aby na Rockových Školách hrála pohodová rocková muzika a byla přátelská a rodinná atmosféra (děti do 15-ti let v doprovodu rodičů mají vstup zdarma). \n\nOd roku 2018 festival Rockové Školy podporuje Nadační fond dětské onkologie Krtek.\n\nÚČINKUJÍCÍ V.ROČNÍKU RŠ: \n- Mňága a Žďorp\n- Turbo\n- Roman Dragoun & His Angels\n- Miloš Dodo Doležal\n- Záviš\n- Kronek Alband\n- Forrest Jump\n- Kulomet\n\nProdejní místa vstupenek \n(III.vlna předprodeje za 320Kč):\n\nKožená galanterie Eva Procházková - Smetanova 831\, Bučovice\n\nDům Pánů z Lipé - Student Agency\, Nám. Svobody 86/17\, Brno\n\nIndies\, Poštovská 70/2\, Brno\n\nInformační centrum To Je Brno\, Panenská 712/1\, Brno\n\nKD Rubín\, Makovského náměstí 3166/3\, Brno\n\nOnline v síti www.smsticket.cz
LOCATION:Bučovice
END:VEVENT
END:VCALENDAR