BEGIN:VCALENDAR
VERSION:2.0
CALSCALE:GREGORIAN
PRODID:-//MyApp//Calendar 1.0//EN
BEGIN:VEVENT
METHOD:PUBLISH
UID:19474@regionalniportaly.cz
DTSTAMP:20260422T030707Z
DTSTART;VALUE=DATE:20190609
DTEND;VALUE=DATE:20190610
SUMMARY:Festival Radosti a Života pod Pálavou 2019
DESCRIPTION:7. - 9. 6. 2019\n\nSetkání příznivců\, přátel osobního rozvoje\, hudby\, tance\, přírody\, spontánního tvoření\, zdravého žití a radování\, které se uskuteční pod pálavskými vrchy u krásné vodní laguny přímo v prostorách Autokempu Merkur v Pasohlávkách a to ve dnech 7.6.-9.6.2019.\n\nFestival proběhne v duchu hudby\, tance\, divadelních představení\, workshopů\, řemesel\, lidového tvoření\, léčivých produktů\, dílniček\, chutných domácích výrobků a mnoha dalších lákadel života.
LOCATION:Pasohlávky
END:VEVENT
END:VCALENDAR