BEGIN:VCALENDAR
VERSION:2.0
CALSCALE:GREGORIAN
PRODID:-//MyApp//Calendar 1.0//EN
BEGIN:VEVENT
METHOD:PUBLISH
UID:19471@regionalniportaly.cz
DTSTAMP:20260422T031259Z
DTSTART;VALUE=DATE:20190616
DTEND;VALUE=DATE:20190617
SUMMARY:XV. ročník Slavností města Pohořelice a okolí
DESCRIPTION:14. - 16. 6. 2019\n\nMěsto Pohořelice Vás srdečně zve na XV. ročník Slavností města Pohořelice a okolí\, které se budou konat ve dnech 14. – 16. června 2019.
LOCATION:Pohořelice
END:VEVENT
END:VCALENDAR