BEGIN:VCALENDAR
VERSION:2.0
CALSCALE:GREGORIAN
PRODID:-//MyApp//Calendar 1.0//EN
BEGIN:VEVENT
METHOD:PUBLISH
UID:19366@regionalniportaly.cz
DTSTAMP:20260422T012859Z
DTSTART;VALUE=DATE:20190629
DTEND;VALUE=DATE:20190630
SUMMARY:Veteranfest Slavkov 2019
DESCRIPTION:Veteranfest Slavkov je jedním z největších setkání majitelů historických vozidel. Tisíce obdivovatelů krásných vozů a motocyklů se schází v impozantním prostředí zámeckého parku ve Slavkově u Brna již mnoho let vždy poslední červnovou sobotu.
LOCATION:Slavkov u Brna
END:VEVENT
END:VCALENDAR