BEGIN:VCALENDAR
VERSION:2.0
CALSCALE:GREGORIAN
PRODID:-//MyApp//Calendar 1.0//EN
BEGIN:VEVENT
METHOD:PUBLISH
UID:18643@regionalniportaly.cz
DTSTAMP:20260422T012848Z
DTSTART;VALUE=DATE:20190608
DTEND;VALUE=DATE:20190609
SUMMARY:Topfest.cz
DESCRIPTION:Od 11:00 hod.\n\nKapely:\nŠKWOR\nMANDRAGE \nJELEN\nMARPO&TROUBLEGANG\nLENNY\nKAŠPÁREK V ROHLÍKU\nWALDA GANG .. a další
LOCATION:Slavkov u Brna
END:VEVENT
END:VCALENDAR