BEGIN:VCALENDAR
VERSION:2.0
CALSCALE:GREGORIAN
PRODID:-//MyApp//Calendar 1.0//EN
BEGIN:VEVENT
METHOD:PUBLISH
UID:17977@regionalniportaly.cz
DTSTAMP:20260422T044333Z
DTSTART;VALUE=DATE:20181201
DTEND;VALUE=DATE:20181202
SUMMARY:Adventní punčování s rozsvěcením vánočního stromu
DESCRIPTION:Od 13:00 hod.\, Dukelské náměstí\n\nMůžete se těšit na vánoční punče a bohatý program
LOCATION:Hustopeče
END:VEVENT
END:VCALENDAR