BEGIN:VCALENDAR
VERSION:2.0
CALSCALE:GREGORIAN
PRODID:-//MyApp//Calendar 1.0//EN
BEGIN:VEVENT
METHOD:PUBLISH
UID:17972@regionalniportaly.cz
DTSTAMP:20260422T045551Z
DTSTART;VALUE=DATE:20181201
DTEND;VALUE=DATE:20181202
SUMMARY:Tradiční bílovický vánoční jarmark
DESCRIPTION:30.11.2018 16:00 - 1.12.2018 19:00\, Těsnohlídkovo náměstí\n\nTradiční bílovický vánoční jarmark
LOCATION:Bílovice nad Svitavou
END:VEVENT
END:VCALENDAR