BEGIN:VCALENDAR
VERSION:2.0
CALSCALE:GREGORIAN
PRODID:-//MyApp//Calendar 1.0//EN
BEGIN:VEVENT
METHOD:PUBLISH
UID:17805@regionalniportaly.cz
DTSTAMP:20260422T131728Z
DTSTART;VALUE=DATE:20181120
DTEND;VALUE=DATE:20181121
SUMMARY:Křesílko s Honzou Homolou: Muzikant\, cestovatel a malíř
DESCRIPTION:Od 19:00 hod.\, Slavkovský pivovar\n\nČeský hudebník\, cestovatel\, výtvarník\, fotograf a průkopník skateboardingu v České republice. To všechno je Honza Homola\, který bude druhým hostem našeho Křesílka. Zakládající člen skupiny Wohnout bude mluvit nejen o hudbě a jejich nové desce\, ale také o cestování a jeho dalších uměleckých projektech.\n\nVstupné v předprodeji: 100 Kč\nLístky můžete zakoupit zde - www.hadica.cz/kresilko\n\nBiografie Honze Homoly (www.honzahomola.cz):
LOCATION:Slavkov u Brna
END:VEVENT
END:VCALENDAR