BEGIN:VCALENDAR
VERSION:2.0
CALSCALE:GREGORIAN
PRODID:-//MyApp//Calendar 1.0//EN
BEGIN:VEVENT
METHOD:PUBLISH
UID:17799@regionalniportaly.cz
DTSTAMP:20260422T045450Z
DTSTART;VALUE=DATE:20181201
DTEND;VALUE=DATE:20181202
SUMMARY:Zahájení adventu a tradiční vánoční posezení u cimbálu
DESCRIPTION:Program na nám. Svobody 15:00 - 16:30 hod.\n\nPosezení u cimbálu od 19:00 hod. - sál Radnice
LOCATION:Pohořelice
END:VEVENT
END:VCALENDAR