BEGIN:VCALENDAR
VERSION:2.0
CALSCALE:GREGORIAN
PRODID:-//MyApp//Calendar 1.0//EN
BEGIN:VEVENT
METHOD:PUBLISH
UID:17797@regionalniportaly.cz
DTSTAMP:20260422T112717Z
DTSTART;VALUE=DATE:20181117
DTEND;VALUE=DATE:20181118
SUMMARY:Svatomartinské setkávání
DESCRIPTION:Od 15:00 hod.\, Masarykovo náměstí\n\nPřijďte si užít podzimní atmosféru a popovídat si při dobrém víně a folklórní muzice.
LOCATION:Šlapanice
END:VEVENT
END:VCALENDAR