BEGIN:VCALENDAR
VERSION:2.0
CALSCALE:GREGORIAN
PRODID:-//MyApp//Calendar 1.0//EN
BEGIN:VEVENT
METHOD:PUBLISH
UID:17787@regionalniportaly.cz
DTSTAMP:20260422T112728Z
DTSTART;VALUE=DATE:20181117
DTEND;VALUE=DATE:20181118
SUMMARY:Oslava svatomartinských vín a husí
DESCRIPTION:Od 10:00 hod.\, \n\nTěšit se můžete nejen na ochutnávku mladých vín a cimbálovou muziku
LOCATION:Hustopeče
END:VEVENT
END:VCALENDAR