BEGIN:VCALENDAR
VERSION:2.0
CALSCALE:GREGORIAN
PRODID:-//MyApp//Calendar 1.0//EN
BEGIN:VEVENT
METHOD:PUBLISH
UID:17764@regionalniportaly.cz
DTSTAMP:20260422T063340Z
DTSTART;VALUE=DATE:20181110
DTEND;VALUE=DATE:20181111
SUMMARY:Taneční večer první republiky
DESCRIPTION:Od 20:00 hod.\, Sokolovna\n\nK tanci a poslechu bude hrát kapela Melody Gentlemen. \n\nVstupenky jsou k prodeji na podatelně MěÚ Šlapanice. Pondělí a středa od 8 - 17 hodin\, úterý a čtvrtek od 8 - 14 hodin a v pátek 8 - 13 hodin. Cena jedné vstupenky je 100 Kč.
LOCATION:Šlapanice
END:VEVENT
END:VCALENDAR