BEGIN:VCALENDAR
VERSION:2.0
CALSCALE:GREGORIAN
PRODID:-//MyApp//Calendar 1.0//EN
BEGIN:VEVENT
METHOD:PUBLISH
UID:17672@regionalniportaly.cz
DTSTAMP:20260425T135030Z
DTSTART;VALUE=DATE:20181201
DTEND;VALUE=DATE:20181202
SUMMARY:Pochod rakouských čertů 2018 v Židlochovicích
DESCRIPTION:Pochod rakouských čertů na trase ulic Komenského\, Masarykova a náměstí Míru. \n\nPo celý den prodejní vánoční a řemeslný jarmark\, bohaté občerstvení\, včetně zabíjačkových pochutin.\n\n Pochod čertů vyjde v 17:30 hod. od základní školy na ulici Komenského.
LOCATION:Židlochovice
END:VEVENT
END:VCALENDAR