BEGIN:VCALENDAR
VERSION:2.0
CALSCALE:GREGORIAN
PRODID:-//MyApp//Calendar 1.0//EN
BEGIN:VEVENT
METHOD:PUBLISH
UID:17533@regionalniportaly.cz
DTSTAMP:20260422T064722Z
DTSTART;VALUE=DATE:20181028
DTEND;VALUE=DATE:20181029
SUMMARY:Výstava ke 100. výročí republiky
DESCRIPTION:Muzejní spolek vás zve na výstavu ke 100. výročí republiky do prostor vedle Konírny\, která bude otevřena od 26. 10. do 28. 10. 2018. \n\nVstupné dobrovolné
LOCATION:Pohořelice
END:VEVENT
END:VCALENDAR