BEGIN:VCALENDAR
VERSION:2.0
CALSCALE:GREGORIAN
PRODID:-//MyApp//Calendar 1.0//EN
BEGIN:VEVENT
METHOD:PUBLISH
UID:17531@regionalniportaly.cz
DTSTAMP:20260422T083627Z
DTSTART;VALUE=DATE:20181103
DTEND;VALUE=DATE:20181104
SUMMARY:Výstava archivních vín
DESCRIPTION:Od 14:00 hod.\, sál Domu pro seniory\n\n10. ročník Výstavy archivních vín
LOCATION:Vranovice
END:VEVENT
END:VCALENDAR