BEGIN:VCALENDAR
VERSION:2.0
CALSCALE:GREGORIAN
PRODID:-//MyApp//Calendar 1.0//EN
BEGIN:VEVENT
METHOD:PUBLISH
UID:17494@regionalniportaly.cz
DTSTAMP:20260423T185813Z
DTSTART;VALUE=DATE:20181028
DTEND;VALUE=DATE:20181029
SUMMARY:100 let republiky v Těšanech
DESCRIPTION:100 let republiky v Těšanech\n\nSázení stromu republiky\, vypouštění balonků v barvách republiky.
LOCATION:Těšany
END:VEVENT
END:VCALENDAR