BEGIN:VCALENDAR
VERSION:2.0
CALSCALE:GREGORIAN
PRODID:-//MyApp//Calendar 1.0//EN
BEGIN:VEVENT
METHOD:PUBLISH
UID:15499@regionalniportaly.cz
DTSTAMP:20260422T112635Z
DTSTART;VALUE=DATE:20180607
DTEND;VALUE=DATE:20180608
SUMMARY:Workshop zdravého vaření
DESCRIPTION:17:00 hod.\, Ekocentrum Trkmanka\n\nVe spolurpáci s výživovou poradkyní Mrg\, Ing. Markétou Rozinkovou pro vás chystáme Workshop zdravého vařeni. Společně si přichystáme celé menu včetně dezertu a předkrmu. Dostanete tipy a předáme vám naše zkušenosti se zdravou kuchyní.\n\nCílem je ukázat vám\, že zdravé vaření nemusí být vůbec složité a výsledek nedobrý. Zjistíte\, že zdravé porkmy jsou i skvěle chutnající pokrmy!
LOCATION:Velké Pavlovice
END:VEVENT
END:VCALENDAR