BEGIN:VCALENDAR
VERSION:2.0
CALSCALE:GREGORIAN
PRODID:-//MyApp//Calendar 1.0//EN
BEGIN:VEVENT
METHOD:PUBLISH
UID:14284@regionalniportaly.cz
DTSTAMP:20260422T115154Z
DTSTART;VALUE=DATE:20180303
DTEND;VALUE=DATE:20180304
SUMMARY:XII. Ochutnávka vín
DESCRIPTION:Sokolovna\, 14:00
LOCATION:Moravské Bránice
END:VEVENT
END:VCALENDAR