BEGIN:VCALENDAR
VERSION:2.0
CALSCALE:GREGORIAN
PRODID:-//MyApp//Calendar 1.0//EN
BEGIN:VEVENT
METHOD:PUBLISH
UID:13004@regionalniportaly.cz
DTSTAMP:20260422T130951Z
DTSTART;VALUE=DATE:20171104
DTEND;VALUE=DATE:20171105
SUMMARY:Ochutnávka - Regionální potravina
DESCRIPTION:Navštivte naši prodejnu v Dolních Kounicích na Masarykově náměstí od úterý 31.10. do soboty 4.11.2017.\n\nŽidlochovická Královská klobása je trvanlivá\, s nejvyšším možným obsahem masa\, voní přírodním kořením a kouřem po uzení.\nJE BEZ LEPKU jako i všechny naše trvanlivé salámy a klobásy.\n\nŽidlochovická Královská klobása se\nvýborně hodí k podvečernímu pohoštění jako delikatesa k vínu.\n\n\nTěšíme se na Vás.
LOCATION:Dolní Kounice
END:VEVENT
END:VCALENDAR