BEGIN:VCALENDAR
VERSION:2.0
CALSCALE:GREGORIAN
PRODID:-//MyApp//Calendar 1.0//EN
BEGIN:VEVENT
METHOD:PUBLISH
UID:12340@regionalniportaly.cz
DTSTAMP:20260422T162811Z
DTSTART;VALUE=DATE:20170923
DTEND;VALUE=DATE:20170924
SUMMARY:Vranovické Dýňování
DESCRIPTION:
LOCATION:Vranovice
END:VEVENT
END:VCALENDAR