BEGIN:VCALENDAR
VERSION:2.0
CALSCALE:GREGORIAN
PRODID:-//MyApp//Calendar 1.0//EN
BEGIN:VEVENT
METHOD:PUBLISH
UID:12028@regionalniportaly.cz
DTSTAMP:20260422T131841Z
DTSTART;VALUE=DATE:20170917
DTEND;VALUE=DATE:20170918
SUMMARY:80 roků od úmrtí T. G. Masaryka
DESCRIPTION:Pásmo vzpomínek na pobyty prezidenta T.G. Masaryka v Židlochovicích
LOCATION:Židlochovice
END:VEVENT
END:VCALENDAR