BEGIN:VCALENDAR
VERSION:2.0
CALSCALE:GREGORIAN
PRODID:-//MyApp//Calendar 1.0//EN
BEGIN:VEVENT
METHOD:PUBLISH
UID:12019@regionalniportaly.cz
DTSTAMP:20260422T163015Z
DTSTART;VALUE=DATE:20170826
DTEND;VALUE=DATE:20170827
SUMMARY:Ahoj léto!
DESCRIPTION:Přijďte se rozloučit s létem do Muzea ve Šlapanicích.\nDěti si mohou společně s rodiči vyrobit vlastní pojízdné autíčko nebo papírového draka. Také se můžete těšit na komentované prohlídky naší výstavy věnované přímo dětem.\n10:00 Otevření muzea\n\n10:15-11:00 Tvořivá dílna: Postav si autíčko!\n\n11:15-11:45 Dětská komentovaná prohlídka výstavy Leg godt! Hraj si dobře\n\n13:00-13:45 Výtvarná dílna: Papírový drak našich babiček\n\n14:00-14:45 Tvořivá dílna: Postav si autíčko!\n\n15:30-16:00 Dětská komentovaná prohlídka výstavy Leg godt! Hraj si dobře\n\n16:00-16:45 Výtvarná dílna: Papírový drak našich babiček\n\n17:00 Přehlídka autíček a drakiáda před budovou muzea\n\nAkce je zdarma ke vstupu na výstavu Leg godt! Hraj si dobře. Na akci se nemusíte přihlašovat předem. 
LOCATION:Šlapanice
END:VEVENT
END:VCALENDAR