BEGIN:VCALENDAR
VERSION:2.0
CALSCALE:GREGORIAN
PRODID:-//MyApp//Calendar 1.0//EN
BEGIN:VEVENT
METHOD:PUBLISH
UID:12009@regionalniportaly.cz
DTSTAMP:20260422T181309Z
DTSTART;VALUE=DATE:20170902
DTEND;VALUE=DATE:20170903
SUMMARY:Historické slavnosti Rosa Coeli
DESCRIPTION:Zažijte atmosféru historických oslav města Dolní Kounice.\nHlavní program se odehrává na Masarykově náměstí\, kde mimo občerstvení a uchutnávky dolnokounických vín\, můžete shlédnout bohatý kulturní program na pódiu 1 a ve večrních hodinách ohňovou show. Na Mlýnském náměstí čeká program připravený především pro děti - soutěžení\, skákací hrad\, motokáry\, a hlavně spoustu představení a pohádek na pódiu 2. Před klášterem můžete zahlédnout povoz z koňmi\, na kterém se můžete projet po městě\, dále pak střelce sv. Gotharda a jejich vojenské ležení\, kde si můžete vyzkoušet střílet z některých zbraní a v neposlední řadě můžou děti využít historický kolotoč na ruční pohon. I historické památky budou během slavností přístupné - Židovská synagoga bude otevřena od 10.00 do 20 hodin a půvabný klášter Rosa coeli bude otevřen od 10.00 do 23.00.\nKdy: 2.9.2017 14:00\nKde: Masarykovo nám.\, Mlýnské nám.\, Klášter Rosa coeli
LOCATION:Dolní Kounice
END:VEVENT
END:VCALENDAR