BEGIN:VCALENDAR
VERSION:2.0
CALSCALE:GREGORIAN
PRODID:-//MyApp//Calendar 1.0//EN
BEGIN:VEVENT
METHOD:PUBLISH
UID:11774@regionalniportaly.cz
DTSTAMP:20260422T153132Z
DTSTART;VALUE=DATE:20170729
DTEND;VALUE=DATE:20170730
SUMMARY:Archeologie pro každého
DESCRIPTION:Muzeum Brněnska – Muzeum ve Šlapanicích Vás zve na program ARCHEOLOGIE PRO KAŽDÉHO aneb Nevšední výlet do pravěku pro děti i dospělé. Nejen rodiny s dětmi se tu hravou formou seznámí s prací archeologa\, vyzkouší si\, jaké je to provádět archeologický výzkum a zpracovávat nálezy. Návštěvníci se s námi podívají do pravěku\, jak se žilo lidem před několika tisíci lety. Spolu s dávnými předky si zkusí pomlet obilí\, naučí se vyrábět pravěký chléb a vytvoří si i vlastní amulet pro štěstí. Na toho\, kdo absolvuje celý výlet do pravěku\, pak čeká překvapení.  Těšíme se na Vás v Muzeu ve Šlapanicích v sobotu 29. července 2017 od 13 hodin.
LOCATION:Šlapanice
END:VEVENT
END:VCALENDAR