BEGIN:VCALENDAR
VERSION:2.0
CALSCALE:GREGORIAN
PRODID:-//MyApp//Calendar 1.0//EN
BEGIN:VEVENT
METHOD:PUBLISH
UID:11720@regionalniportaly.cz
DTSTAMP:20260422T194829Z
DTSTART;VALUE=DATE:20170819
DTEND;VALUE=DATE:20170820
SUMMARY:Folklórní den v Telnici
DESCRIPTION:Vystoupení folklórních souborů z Valašska\, Hané Slovácka či Slovenska\, ale i místních ženáčských stárků. Nebude chybět ani jarmark.\n\nvstupné dobrovolné
LOCATION:Telnice
END:VEVENT
END:VCALENDAR